Workbook
Name LOSWait: #REF!
Name LOSWait: #REF!

Sheet Scenarios
A1: NY Penn Station Master Plan
A2: Comparison of Travel Demand Scenarios
A3: 43990
B4: Existing 2019 | C4: Baseline 2032 | D4: Proposed Action 2032 No significant NJ rail service growth | E4: Proposed Action 2032 Medium Scenario B Limited NJ rail svc. growth | F4: Baseline 2042 | G4: Proposed Action 2042 -- Transportation Elements Only | H4: Proposed Action 2042 -- Transportation and Development Elements | I4: Full Build
A5: Purpose | B5: EIS & master plan comparison case | C5: EIS Interim Year No Action | D5: EIS Interim Year Proposed Action; Master Plan phasing | F5: EIS Horizon Year No Action | G5: Incremental effect of full Gateway Program (incl. new Hudson Tunnel and Penn South station),without development-related effects | H5: EIS Horizon Year Proposed Action; Minimum boundary condition for master plan design | I5: Maximum boundary condition for master plan design (full practical capacity of all tunnels feeding Penn Station)
A6: Assumed Gateway Program Status: - New Hudson River Tunnel - Rehab of existing North Riv. Tnls. - Rail capacity projects in NJ (e.g., Portal Bridge North & South, Secaucus Loops, Sawtooth bridges, Secaucus Station Expansion), providing 4 tracks to Newark - Penn South expansion of NY Penn Station (All four elements required for full utilization of new tunnel capacity) | C6: New Hudson Tunnel and rehab of existing North River Tunnels scheduled to be complete; Penn South station expansion is incuded in Proposed Action and therefore is not assumed in the Baseline | D6: Full program of capacity improvements in NJ not yet complete -- Assume no significant increase in peak hour trains crossing the Hudson River; Penn South station expansion complete and available for use by NJ TRANSIT, at existing/baseline level of service | E6: Full program of capacity improvements in NJ not yet complete -- Assume limited increase in peak hour trains crossing the Hudson River; Penn South station expansion complete and available for use by NJ TRANSIT | F6: Full Gateway Program assumed to be complete; Penn South station expansion is incuded in Proposed Action and therefore is not assumed in the Baseline -- peak hour trans-Hudson train volumes assumed to be the same as 2032 Baseline | G6: Full Gateway Program assumed to be complete, including Penn South station expansion; Peak hour trans-Hudson rail service is approximately doubled, utilizing capacity of both pairs of Hudson River tunnels | I6: Full Gateway Program assumed to be complete;
A7: Inclusions -- Other major transportation projects | C7: Moynihan Station Phase 2 (Train Hall); 33rd Street Concourse and Access Improvements; LIRR East Side Access; MNR Penn Access | F7: Same rail and station infrastructure as 2032 Baseline | I7: Extension of five southernmost tracks at Penn South to new tunnel beneath 30th Street; Regional rail system investment to connect to 30th Street tunnel and support regional through-running service
A8: Inclusions -- development activity | C8: Vornado 1PP and 2PP concourse and street level improvements; Continued Far West Side development; As-of-right development at specific sites within Penn Station GPP District (15 Penn Plaza, One Penn Plaza West and East) | D8: Redevelopment of selected sites within Penn Station GPP District (assumed to be 15 Penn, One Penn Plaza East, One Penn Plaza West) | F8: No explicit as-of-right development between 2032 and 2042 at sites within the GPP district | G8: Same as 2042 Baseline | H8: Full redevelopment of sites within Penn Station GPP District | I8: Same as 2042 Proposed Action
A9: Inclusions -- development-related trip-making | C9: No explicit assumptions (baseline growth assumed to include trips generated by as-of-right development) | D9: Net incremental demand from proposed development (trips generated from proposed development minus total as-of-right trips at the same sites) | F9: No explicit assumptions (background growth assumed to include trips generated by Midtown development in the 2032-2042 time period) | G9: Same as 2042 Baseline | H9: Net incremental demand from proposed development (trips generated from proposed development minus as-of-right trips at the same sites) | I9: Same as 2042 Proposed Action
A10: Exclusions | C10: Excludes GPP development-related trips in 2032; Excludes Master Plan-related transportation improvements (including Penn South station expansion) | F10: Excludes GPP development-related trips in 2042; Excludes Master Plan-related transportation improvements (including Penn South station expansion) | G10: Excludes GPP development-related trips in 2042
A11: Rail service at Penn Station -- Commuter rail to/from LIRR and Metro-North service territory | C11: Some East River Tunnel slots shifted from LIRR to MNR New Haven Line trains; level of overall peak hour service remains the same | D11: Same as 2032 Baseline | F11: Same as 2032 Baseline | G11: Same as 2032 Baseline | H11: Same as 2032 Baseline | I11: High-density through-running service using new Hudson and 30th Street tunnels; service increased at existing Penn Station based on improvements to reach 24 tph tunnel capacity; MNR Hudson Line service to Penn Station via Empire Connection tunnel
A12: Rail service at Penn Station -- Commuter rail to/from New Jersey | C12: Existing level of peak hour NJ TRANSIT service maintained, with some train lengthening and schedule optimization. | D12: No significant change in number of peak trains from 2032 Baseline; some NJ TRANSIT trains shifted to new stub tracks at Penn South | E12: Limited increase in number of peak trains above 2032 Baseline; some NJ TRANSIT trains shifted to new stub tracks at Penn South | F12: Same as 2032 Baseline | G12: NJ TRANSIT peak hour, peak direction service more than doubles, with new Hudson River tunnel (trains per hour to be determined) | H12: Same as 2042 with Transportation Elements Only | I12: High-density through-running service using new Hudson and 30th Street tunnels; service increased at existing Penn Station based on improvements to reach 24 tph tunnel capacity; MNR Hudson Line service to Penn Station via Empire Connection tunnel
A13: Rail service at Penn Station -- Amtrak | C13: Increased Amtrak service (including increased Acela service with new fleet) | D13: Same as 2032 Baseline | F13: Increased Amtrak service (to reach level of NEC and Empire service planned to support 4,000 peak hour boardings at Moynihan Train Hall) | G13: Same as 2042 Baseline | H13: Same as 2042 Baseline | I13: Additional peak hour service assumed (5,000 peak hour, peak direction trips)
A14: Airport rail service | B14: Via existing trains to Jamaica and Nwk Airport rail station | C14: Via existing trains to Jamaica, Nwk Airport rail station and Pt. Washington Branch, with AirTrain connections to JFK, EWR, LGA | D14: Same as 2032 Baseline | F14: Same as 2032 Baseline | G14: Same as 2032 Baseline | H14: Same as 2032 Baseline; Assumptions re airport passenger and possible baggage handling TBD | I14: Assumptions about possible direct airport rail service and passenger and baggage handling at Penn Station TBD
A15: Background growth assumptions for peak hour commuting | C15: Source: data and analysis of 33rd St Concourse improvements | D15: Same as 2032 Baseline | F15: Modest growth in peak hour volume, consistent with assumed background traffic growth within GPP district (1/4 to 1/8 %/yr in peak dir.) | G15: Latent demand for trans-Hudson capacity assumed to fill additional peak train capacity (per multiple prior trans-Hudson studies) | H15: Same as 2042 Transp Elements Only scenario | I15: Same as 2042 Transp Elements Only scenario
A16: Ridership growth - commuter rail | C16: Growth based on increasing demand for rail travel to Manhattan and West Midtown | D16: Includes rail share of net incremental trips to/from proposed new development | F16: Modest growth based on continuing as-of-right development | G16: Significant growth in rail trips to/from NJ based on doubling of peak service frequency | H16: Includes rail share of net incremental trips to/from proposed new development | I16: Significant growth in rail trips based on increased service frequency
A17: Growth in pass-through pedestrian trips | C17: Based on data and analysis of 33rd St Concourse improvements | D17: Includes portion of subway share of net incremental trips to/from proposed new development (trips accessing subway stations via Penn Station) | F17: Increased based on estimated background growth rate | G17: Same as 2042 Baseline | H17: Includes portion of subway share of net incremental trips to/from proposed new development (trips accessing subway stations via Penn Station) | I17: Same as 2042 Baseline
A18: Status (as of May 22, 2020) | B18: Complete (Draft) | C18: Complete (Draft) | D18: Net incremental demand from Proposed Action provided by EIS Team; assignment of incremental development trips to ped network TBD | F18: Complete (Draft) | G18: Complete (Draft) | H18: Net incremental demand from Proposed Action provided by EIS Team; assignment of incremental development trips to ped network TBD | I18: Complete (Draft)

Sheet Demand
A1: NY Penn Station | I1: NY Penn Station | R1: NY Penn Station | Z1: NY Penn Station
A2: AM Peak Hour Passengers | I2: AM Peak Hour Passengers | R2: PM Peak Hour Passengers | Z2: PM Peak Hour Passengers
A3: Alighting Direction | I3: Boarding Direction | R3: Alighting Direction | Z3: Boarding Direction
D4: Proposed | F4: Proposed | L4: Proposed | N4: Proposed | U4: Proposed | W4: Proposed | AC4: Proposed | AE4: Proposed
C5: Baseline | D5: Action | E5: Baseline | F5: Action | G5: Full | K5: Baseline | L5: Action | M5: Baseline | N5: Action | O5: Full | T5: Baseline | U5: Action | V5: Baseline | W5: Action | X5: Full | AB5: Baseline | AC5: Action | AD5: Baseline | AE5: Action | AF5: Full
B6: 2019 | C6: 2032 | D6: 20321 | E6: 2042 | F6: 2042 | G6: Build | J6: 2019 | K6: 2032 | L6: 20321 | M6: 2042 | N6: 2042 | O6: Build | S6: 2019 | T6: 2032 | U6: 20321 | V6: 2042 | W6: 2042 | X6: Build | AA6: 2019 | AB6: 2032 | AC6: 2032 | AD6: 2042 | AE6: 2042 | AF6: Build
A7: Amtrak | B7: 1143 | C7: 3600 | D7: =E24 -> 3600 | E7: =F56 -> 4500 | F7: =E73 -> 4500 | G7: 5000 | I7: Amtrak | J7: 1107 | K7: 3200 | L7: =M24 -> 3200 | M7: =N56 -> 4000 | N7: =M73 -> 4000 | O7: 5000 | R7: Amtrak | S7: 1347 | T7: 4000 | U7: =V24 -> 4000 | V7: =W56 -> 4800 | W7: =V73 -> 4800 | X7: 5500 | Z7: Amtrak | AA7: 915 | AB7: 3300 | AC7: =AD24 -> 3300 | AD7: =AE56 -> 4000 | AE7: =AD73 -> 4000 | AF7: 5000
A8: LIRR | B8: 33750 | C8: 36600 | D8: =E25 -> 37100 | E8: =F57 -> 37500 | F8: =E74 -> 39600 | G8: 54000 | I8: LIRR | J8: 1720 | K8: 3600 | L8: =M25 -> 3610 | M8: =N57 -> 4000 | N8: =M74 -> 4090 | O8: 5900 | R8: LIRR | S8: 3730 | T8: 5400 | U8: =V25 -> 5420 | V8: =W57 -> 6000 | W8: =V74 -> 6090 | X8: =ROUND(W8*AF8/AE8,-2) -> 8700 | Z8: LIRR | AA8: 27630 | AB8: 31300 | AC8: =AD25 -> 31700 | AD8: =AE57 -> 32100 | AE8: =AD74 -> 34000 | AF8: =ROUND(G8*0.9,-2) -> 48600
A9: NJ TRANSIT | B9: 25927 | C9: 29700 | D9: =E26 -> 30100 | E9: =F58 -> 30100 | F9: =E75 -> 55300 | G9: 58000 | I9: NJ TRANSIT | J9: 1783 | K9: 4100 | L9: =M26 -> 4120 | M9: =N58 -> 4500 | N9: =M75 -> 8000 | O9: 5100 | R9: NJ TRANSIT | S9: 4302 | T9: 6200 | U9: =V26 -> 6230 | V9: =W58 -> 6800 | W9: =V75 -> 12200 | X9: =ROUND(W9*AF9/AE9,-2) -> 13000 | Z9: NJ TRANSIT | AA9: 23179 | AB9: 26000 | AC9: =AD26 -> 26300 | AD9: =AE58 -> 26300 | AE9: =AD75 -> 49000 | AF9: =ROUND(G9*0.9,-2) -> 52200
A10: MNR-New Haven | B10: 0 | C10: 4700 | D10: =E27 -> 4800 | E10: =F59 -> 4800 | F10: =E76 -> 5000 | G10: 10000 | I10: MNR-New Haven | J10: 0 | K10: 700 | L10: =M27 -> 700 | M10: =N59 -> 800 | N10: =M76 -> 810 | O10: 2600 | R10: MNR-New Haven | S10: 0 | T10: 1100 | U10: =V27 -> 1100 | V10: =W59 -> 1200 | W10: =V76 -> 1210 | X10: =ROUND(W10*AF10/AE10,-2) -> 2500 | Z10: MNR-New Haven | AA10: 0 | AB10: 4000 | AC10: =AD27 -> 4100 | AD10: =AE59 -> 4100 | AE10: =AD76 -> 4300 | AF10: =ROUND(G10*0.9,-2) -> 9000
A11: MNR-Hudson | B11: 0 | C11: 0 | D11: 0 | E11: 0 | F11: 0 | G11: 2500 | I11: MNR-Hudson | J11: 0 | K11: 0 | L11: 0 | M11: =N60 -> 0 | N11: =M77 -> 0 | O11: 800 | R11: MNR-Hudson | S11: 0 | T11: 0 | U11: 0 | V11: =W60 -> 0 | W11: =V77 -> 0 | X11: 1000 | Z11: MNR-Hudson | AA11: 0 | AB11: 0 | AC11: 0 | AD11: =AE60 -> 0 | AE11: =AD77 -> 0 | AF11: =ROUND(G11*0.9,-2) -> 2300
A13: TOTAL | B13: =SUM(B7:B12) -> 60820 | C13: =SUM(C7:C12) -> 74600 | D13: =SUM(D7:D12) -> 75600 | E13: =SUM(E7:E12) -> 76900 | F13: =SUM(F7:F12) -> 104400 | G13: =SUM(G7:G12) -> 129500 | I13: TOTAL | J13: =SUM(J7:J12) -> 4610 | K13: =SUM(K7:K12) -> 11600 | L13: =SUM(L7:L12) -> 11630 | M13: =SUM(M7:M12) -> 13300 | N13: =SUM(N7:N12) -> 16900 | O13: =SUM(O7:O12) -> 19400 | R13: TOTAL | S13: =SUM(S7:S12) -> 9379 | T13: =SUM(T7:T12) -> 16700 | U13: =SUM(U7:U12) -> 16750 | V13: =SUM(V7:V12) -> 18800 | W13: =SUM(W7:W12) -> 24300 | X13: =SUM(X7:X12) -> 30700 | Z13: TOTAL | AA13: =SUM(AA7:AA12) -> 51724 | AB13: =SUM(AB7:AB12) -> 64600 | AC13: =SUM(AC7:AC12) -> 65400 | AD13: =SUM(AD7:AD12) -> 66500 | AE13: =SUM(AE7:AE12) -> 91300 | AF13: =SUM(AF7:AF12) -> 117100
A14: 1 Assumes no significant incremental rail service from NJ by 2032. | I14: 1 Assumes no significant incremental rail service from NJ by 2032. | R14: 1 Assumes no significant incremental rail service from NJ by 2032. | Z14: 1 Assumes no significant incremental rail service from NJ by 2032.
A17: 2032 Proposed Action | I17: 2032 Proposed Action | R17: 2032 Proposed Action | Z17: 2032 Proposed Action
A18: No Incremental Rail Service Improvement from NJ | I18: No Incremental Rail Service Improvement from NJ | R18: No Incremental Rail Service Improvement from NJ | Z18: No Incremental Rail Service Improvement from NJ
A19: AM Peak Hour -- Alighting Direction | I19: AM Peak Hour -- Boarding Direction | R19: PM Peak Hour -- Alighting Direction | Z19: PM Peak Hour -- Boarding Direction
E20: Total | M20: Total | V20: Total | AD20: Total
C21: Rail Service | D21: Estimated | E21: Proposed | G21: Baseline | K21: Rail Service | L21: Estimated | M21: Proposed | O21: Baseline | T21: Rail Service | U21: Estimated | V21: Proposed | X21: Baseline | AB21: Rail Service | AC21: Estimated | AD21: Proposed | AF21: Baseline
B22: Baseline | C22: Improvement | D22: Development | E22: Action | G22: 2032 | J22: Baseline | K22: Improvement | L22: Development | M22: Action | O22: 2032 | S22: Baseline | T22: Improvement | U22: Development | V22: Action | X22: 2032 | AA22: Baseline | AB22: Improvement | AC22: Development | AD22: Action | AF22: 2032
B23: 2032 | C23: Increment | D23: Increment2 | E23: 2032 | G23: Split | J23: 2032 | K23: Increment | L23: Increment2 | M23: 2032 | O23: Split | S23: 2032 | T23: Increment | U23: Increment2 | V23: 2032 | X23: Split | AA23: 2032 | AB23: Increment | AC23: Increment2 | AD23: 2032 | AF23: Split
A24: Amtrak | B24: =C7 -> 3600 | C24: 0 | D24: 0 | E24: =SUM(B24:D24) -> 3600 | I24: Amtrak | J24: =K7 -> 3200 | K24: 0 | L24: 0 | M24: =SUM(J24:L24) -> 3200 | R24: Amtrak | S24: =T7 -> 4000 | T24: 0 | U24: 0 | V24: =SUM(S24:U24) -> 4000 | Z24: Amtrak | AA24: =AB7 -> 3300 | AB24: 0 | AC24: 0 | AD24: =SUM(AA24:AC24) -> 3300
A25: LIRR | B25: =C8 -> 36600 | C25: 0 | D25: =ROUND(900*G25,-2) -> 500 | E25: =SUM(B25:D25) -> 37100 | G25: =B25/SUM($B$25:$B$27) -> 0.51549296 | I25: LIRR | J25: =K8 -> 3600 | K25: 0 | L25: 10 | M25: =SUM(J25:L25) -> 3610 | O25: =J25/SUM($J$25:$J$27) -> 0.42857143 | R25: LIRR | S25: =T8 -> 5400 | T25: 0 | U25: =ROUND(50*X25,-1) -> 20 | V25: =SUM(S25:U25) -> 5420 | X25: =S25/SUM($S$25:$S$27) -> 0.42519685 | Z25: LIRR | AA25: =AB8 -> 31300 | AB25: 0 | AC25: =ROUND(800*AF25,-2) -> 400 | AD25: =SUM(AA25:AC25) -> 31700 | AF25: =AA25/SUM($AA$25:$AA$27) -> 0.51060359
A26: NJ TRANSIT | B26: =C9 -> 29700 | C26: 0 | D26: =ROUND(900*G26,-2) -> 400 | E26: =SUM(B26:D26) -> 30100 | G26: =B26/SUM($B$25:$B$27) -> 0.41830986 | I26: NJ TRANSIT | J26: =K9 -> 4100 | K26: 0 | L26: 20 | M26: =SUM(J26:L26) -> 4120 | O26: =J26/SUM($J$25:$J$27) -> 0.48809524 | R26: NJ TRANSIT | S26: =T9 -> 6200 | T26: 0 | U26: 30 | V26: =SUM(S26:U26) -> 6230 | X26: =S26/SUM($S$25:$S$27) -> 0.48818898 | Z26: NJ TRANSIT | AA26: =AB9 -> 26000 | AB26: 0 | AC26: =ROUND(800*AF26,-2) -> 300 | AD26: =SUM(AA26:AC26) -> 26300 | AF26: =AA26/SUM($AA$25:$AA$27) -> 0.42414356
A27: MNR-New Haven | B27: =C10 -> 4700 | C27: 0 | D27: =ROUND(900*G27,-2) -> 100 | E27: =SUM(B27:D27) -> 4800 | G27: =B27/SUM($B$25:$B$27) -> 0.066197183 | I27: MNR-New Haven | J27: =K10 -> 700 | K27: 0 | L27: 0 | M27: =SUM(J27:L27) -> 700 | O27: =J27/SUM($J$25:$J$27) -> 0.083333333 | R27: MNR-New Haven | S27: =T10 -> 1100 | T27: 0 | U27: =ROUND(50*X27,-1) -> 0 | V27: =SUM(S27:U27) -> 1100 | X27: =S27/SUM($S$25:$S$27) -> 0.086614173 | Z27: MNR-New Haven | AA27: =AB10 -> 4000 | AB27: 0 | AC27: =ROUND(800*AF27,-2) -> 100 | AD27: =SUM(AA27:AC27) -> 4100 | AF27: =AA27/SUM($AA$25:$AA$27) -> 0.065252855
A28: MNR-Hudson | B28: =C11 -> 0 | C28: 0 | D28: 0 | E28: =SUM(B28:D28) -> 0 | I28: MNR-Hudson | J28: =K11 -> 0 | K28: 0 | L28: 0 | M28: =SUM(J28:L28) -> 0 | R28: MNR-Hudson | S28: =T11 -> 0 | T28: 0 | U28: 0 | V28: =SUM(S28:U28) -> 0 | Z28: MNR-Hudson | AA28: =AB11 -> 0 | AB28: 0 | AC28: 0 | AD28: =SUM(AA28:AC28) -> 0
A30: TOTAL | B30: =SUM(B24:B29) -> 74600 | C30: =SUM(C24:C29) -> 0 | D30: =SUM(D24:D29) -> 1000 | E30: =SUM(E24:E29) -> 75600 | G30: =SUM(G25:G27) -> 1 | I30: TOTAL | J30: =SUM(J24:J29) -> 11600 | K30: =SUM(K24:K29) -> 0 | L30: =SUM(L24:L29) -> 30 | M30: =SUM(M24:M29) -> 11630 | O30: =SUM(O25:O27) -> 1 | R30: TOTAL | S30: =SUM(S24:S29) -> 16700 | T30: =SUM(T24:T29) -> 0 | U30: =SUM(U24:U29) -> 50 | V30: =SUM(V24:V29) -> 16750 | X30: =SUM(X25:X27) -> 1 | Z30: TOTAL | AA30: =SUM(AA24:AA29) -> 64600 | AB30: =SUM(AB24:AB29) -> 0 | AC30: =SUM(AC24:AC29) -> 800 | AD30: =SUM(AD24:AD29) -> 65400 | AF30: =SUM(AF25:AF27) -> 1
A31: 2 Includes net new trips generated by proposed redevelopment within GPP Zone by 2032 | Z31: 2 Includes net new trips generated by proposed redevelopment within GPP Zone by 2032
A32: (total trips minus as-of-right trips at redeveloped sites) -- Subject to refinement by EIS team | Z32: (total trips minus as-of-right trips at redeveloped sites) -- Subject to refinement by EIS team
A34: 2032 Proposed Action - Scenario B | I34: 2032 Proposed Action - Scenario B | R34: 2032 Proposed Action - Scenario B | Z34: 2032 Proposed Action - Scenario B
A35: Small Incremental Rail Service Improvement from NJ | I35: Small Incremental Rail Service Improvement from NJ | R35: Small Incremental Rail Service Improvement from NJ | Z35: Small Incremental Rail Service Improvement from NJ
A36: AM Peak Hour -- Alighting Direction | I36: AM Peak Hour -- Boarding Direction | R36: PM Peak Hour -- Alighting Direction | Z36: PM Peak Hour -- Boarding Direction
E37: Total | M37: Total | V37: Total | AD37: Total
C38: Rail Service | D38: Estimated | E38: Proposed | K38: Rail Service | L38: Estimated | M38: Proposed | T38: Rail Service | U38: Estimated | V38: Proposed | AB38: Rail Service | AC38: Estimated | AD38: Proposed
B39: Baseline | C39: Improvement | D39: Development | E39: Action | J39: Baseline | K39: Improvement | L39: Development | M39: Action | S39: Baseline | T39: Improvement | U39: Development | V39: Action | AA39: Baseline | AB39: Improvement | AC39: Development | AD39: Action
B40: 2032 | C40: Increment3 | D40: Increment | E40: 2032 | J40: 2032 | K40: Increment3 | L40: Increment | M40: 2032 | S40: 2032 | T40: Increment3 | U40: Increment | V40: 2032 | AA40: 2032 | AB40: Increment3 | AC40: Increment | AD40: 2032
A41: Amtrak | B41: =B24 -> 3600 | C41: 0 | D41: 0 | E41: =SUM(B41:D41) -> 3600 | I41: Amtrak | J41: =J24 -> 3200 | K41: 0 | L41: 0 | M41: =SUM(J41:L41) -> 3200 | R41: Amtrak | S41: =S24 -> 4000 | T41: 0 | U41: 0 | V41: =SUM(S41:U41) -> 4000 | Z41: Amtrak | AA41: =AA24 -> 3300 | AB41: 0 | AC41: 0 | AD41: =SUM(AA41:AC41) -> 3300
A42: LIRR | B42: =B25 -> 36600 | C42: 0 | D42: =D25 -> 500 | E42: =SUM(B42:D42) -> 37100 | I42: LIRR | J42: =J25 -> 3600 | K42: 0 | L42: =L25 -> 10 | M42: =SUM(J42:L42) -> 3610 | R42: LIRR | S42: =S25 -> 5400 | T42: 0 | U42: =U25 -> 20 | V42: =SUM(S42:U42) -> 5420 | Z42: LIRR | AA42: =AA25 -> 31300 | AB42: 0 | AC42: =AC25 -> 400 | AD42: =SUM(AA42:AC42) -> 31700
A43: NJ TRANSIT | B43: =B26 -> 29700 | C43: 7200 | D43: =D26 -> 400 | E43: =SUM(B43:D43) -> 37300 | I43: NJ TRANSIT | J43: =J26 -> 4100 | K43: =ROUND(J43*C43/B43,-2) -> 1000 | L43: =L26 -> 20 | M43: =SUM(J43:L43) -> 5120 | R43: NJ TRANSIT | S43: =S26 -> 6200 | T43: =ROUND(S43*AB43/AA43,-2) -> 1600 | U43: =U26 -> 30 | V43: =SUM(S43:U43) -> 7830 | Z43: NJ TRANSIT | AA43: =AA26 -> 26000 | AB43: =ROUND(C43*0.9,-2) -> 6500 | AC43: =AC26 -> 300 | AD43: =SUM(AA43:AC43) -> 32800
A44: MNR-New Haven | B44: =B27 -> 4700 | C44: 0 | D44: =D27 -> 100 | E44: =SUM(B44:D44) -> 4800 | I44: MNR-New Haven | J44: =J27 -> 700 | K44: 0 | L44: =L27 -> 0 | M44: =SUM(J44:L44) -> 700 | R44: MNR-New Haven | S44: =S27 -> 1100 | T44: 0 | U44: =U27 -> 0 | V44: =SUM(S44:U44) -> 1100 | Z44: MNR-New Haven | AA44: =AA27 -> 4000 | AB44: 0 | AC44: =AC27 -> 100 | AD44: =SUM(AA44:AC44) -> 4100
A45: MNR-Hudson | B45: =B28 -> 0 | C45: 0 | D45: 0 | E45: =SUM(B45:D45) -> 0 | I45: MNR-Hudson | J45: =J28 -> 0 | K45: 0 | L45: 0 | M45: =SUM(J45:L45) -> 0 | R45: MNR-Hudson | S45: =S28 -> 0 | T45: 0 | U45: 0 | V45: =SUM(S45:U45) -> 0 | Z45: MNR-Hudson | AA45: =AA28 -> 0 | AB45: 0 | AC45: 0 | AD45: =SUM(AA45:AC45) -> 0
A47: TOTAL | B47: =SUM(B41:B46) -> 74600 | C47: =SUM(C41:C46) -> 7200 | D47: =SUM(D41:D46) -> 1000 | E47: =SUM(E41:E46) -> 82800 | I47: TOTAL | J47: =SUM(J41:J46) -> 11600 | K47: =SUM(K41:K46) -> 1000 | L47: =SUM(L41:L46) -> 30 | M47: =SUM(M41:M46) -> 12630 | R47: TOTAL | S47: =SUM(S41:S46) -> 16700 | T47: =SUM(T41:T46) -> 1600 | U47: =SUM(U41:U46) -> 50 | V47: =SUM(V41:V46) -> 18350 | Z47: TOTAL | AA47: =SUM(AA41:AA46) -> 64600 | AB47: =SUM(AB41:AB46) -> 6500 | AC47: =SUM(AC41:AC46) -> 800 | AD47: =SUM(AD41:AD46) -> 71900
A48: 3 New Hudson Tunnel and Penn South complete, but limited additional service since full Gateway program not yet complete. | Z48: 3 New Hudson Tunnel and Penn South complete, but limited additional service since full Gateway program not yet complete.
A50: 2042 Baseline | I50: 2042 Baseline | R50: 2042 Baseline | Z50: 2042 Baseline
A51: AM Peak Hour -- Alighting Direction | I51: AM Peak Hour -- Boarding Direction | R51: PM Peak Hour -- Alighting Direction | Z51: PM Peak Hour -- Boarding Direction
A52: Baseline Ridership Growth Between 2032 and 2042 | I52: Baseline Ridership Growth Between 2032 and 2042 | R52: Baseline Ridership Growth Between 2032 and 2042 | Z52: Baseline Ridership Growth Between 2032 and 2042
D53: Amtrak | E53: As-of-Right | L53: Amtrak | M53: As-of-Right | U53: Amtrak | V53: As-of-Right | AC53: Amtrak | AD53: As-of-Right
B54: Baseline | C54: Background | D54: Ridership | E54: Development | F54: Baseline | J54: Baseline | K54: Background | L54: Ridership | M54: Devel. | N54: Baseline | S54: Baseline | T54: Background | U54: Ridership | V54: Devel. | W54: Baseline | AA54: Baseline | AB54: Background | AC54: Ridership | AD54: Development | AE54: Baseline
B55: 2032 | C55: Growth9 | D55: Growth4 | E55: Increment5 | F55: 2042 | J55: 2032 | K55: Growth10 | L55: Growth4 | M55: Increment5 | N55: 2042 | S55: 2032 | T55: Growth10 | U55: Growth4 | V55: Increment5 | W55: 2042 | AA55: 2032 | AB55: Growth9 | AC55: Growth4 | AD55: Increment5 | AE55: 2042
A56: Amtrak | B56: =B41 -> 3600 | C56: 0 | D56: 900 | E56: 0 | F56: =SUM(B56:E56) -> 4500 | I56: Amtrak | J56: =J41 -> 3200 | K56: 0 | L56: 800 | M56: 0 | N56: =SUM(J56:M56) -> 4000 | R56: Amtrak | S56: =S41 -> 4000 | T56: 0 | U56: 800 | V56: 0 | W56: =SUM(S56:V56) -> 4800 | Z56: Amtrak | AA56: =AA41 -> 3300 | AB56: 0 | AC56: 700 | AD56: 0 | AE56: =SUM(AA56:AD56) -> 4000
A57: LIRR | B57: =B42 -> 36600 | C57: =ROUND(B57*1.0025^10-B57,-2) -> 900 | D57: 0 | E57: 0 | F57: =SUM(B57:E57) -> 37500 | I57: LIRR | J57: =J42 -> 3600 | K57: =ROUND(J57*1.01^10-J57,-2) -> 400 | L57: 0 | M57: 0 | N57: =SUM(J57:M57) -> 4000 | R57: LIRR | S57: =S42 -> 5400 | T57: =ROUND(S57*1.01^10-S57,-2) -> 600 | U57: 0 | V57: 0 | W57: =SUM(S57:V57) -> 6000 | Z57: LIRR | AA57: =AA42 -> 31300 | AB57: =ROUND(AA57*1.0025^10-AA57,-2) -> 800 | AC57: 0 | AD57: =ROUND(E57*0.92,-2) -> 0 | AE57: =SUM(AA57:AD57) -> 32100
A58: NJ TRANSIT | B58: =B43 -> 29700 | C58: =ROUND(B58*1.00125^10-B58,-2) -> 400 | D58: 0 | E58: 0 | F58: =SUM(B58:E58) -> 30100 | I58: NJ TRANSIT | J58: =J43 -> 4100 | K58: =ROUND(J58*1.01^10-J58,-2) -> 400 | L58: 0 | M58: 0 | N58: =SUM(J58:M58) -> 4500 | R58: NJ TRANSIT | S58: =S43 -> 6200 | T58: =ROUND(S58*1.01^10-S58,-2) -> 600 | U58: 0 | V58: 0 | W58: =SUM(S58:V58) -> 6800 | Z58: NJ TRANSIT | AA58: =AA43 -> 26000 | AB58: =ROUND(AA58*1.00125^10-AA58,-2) -> 300 | AC58: 0 | AD58: =ROUND(E58*0.92,-2) -> 0 | AE58: =SUM(AA58:AD58) -> 26300
A59: MNR-New Haven | B59: =B44 -> 4700 | C59: =ROUND(B59*1.0025^10-B59,-2) -> 100 | D59: 0 | E59: 0 | F59: =SUM(B59:E59) -> 4800 | I59: MNR-New Haven | J59: =J44 -> 700 | K59: =ROUND(J59*1.01^10-J59,-2) -> 100 | L59: 0 | M59: 0 | N59: =SUM(J59:M59) -> 800 | R59: MNR-New Haven | S59: =S44 -> 1100 | T59: =ROUND(S59*1.01^10-S59,-2) -> 100 | U59: 0 | V59: 0 | W59: =SUM(S59:V59) -> 1200 | Z59: MNR-New Haven | AA59: =AA44 -> 4000 | AB59: =ROUND(AA59*1.0025^10-AA59,-2) -> 100 | AC59: 0 | AD59: =ROUND(E59*0.92,-2) -> 0 | AE59: =SUM(AA59:AD59) -> 4100
A60: MNR-Hudson | B60: =B45 -> 0 | C60: 0 | D60: 0 | E60: 0 | F60: =SUM(B60:E60) -> 0 | I60: MNR-Hudson | J60: =J45 -> 0 | K60: 0 | L60: 0 | M60: 0 | N60: =SUM(J60:M60) -> 0 | R60: MNR-Hudson | S60: =S45 -> 0 | U60: 0 | V60: 0 | W60: =SUM(S60:V60) -> 0 | Z60: MNR-Hudson | AA60: =AA45 -> 0 | AB60: 0 | AC60: 0 | AD60: 0 | AE60: =SUM(AA60:AD60) -> 0
A62: TOTAL | B62: =SUM(B56:B61) -> 74600 | C62: =SUM(C56:C61) -> 1400 | D62: =SUM(D56:D61) -> 900 | E62: =SUM(E56:E61) -> 0 | F62: =SUM(F56:F61) -> 76900 | I62: TOTAL | J62: =SUM(J56:J61) -> 11600 | K62: =SUM(K56:K61) -> 900 | L62: =SUM(L56:L61) -> 800 | M62: =SUM(M56:M61) -> 0 | N62: =SUM(N56:N61) -> 13300 | R62: TOTAL | S62: =SUM(S56:S61) -> 16700 | T62: =SUM(T56:T61) -> 1300 | U62: =SUM(U56:U61) -> 800 | V62: =SUM(V56:V61) -> 0 | W62: =SUM(W56:W61) -> 18800 | Z62: TOTAL | AA62: =SUM(AA56:AA61) -> 64600 | AB62: =SUM(AB56:AB61) -> 1200 | AC62: =SUM(AC56:AC61) -> 700 | AD62: =SUM(AD56:AD61) -> 0 | AE62: =SUM(AE56:AE61) -> 66500
A63: 4 Additional ridership generated by increased peak hour NEC and Empire service frequency. | I63: 4 Additional ridership generated by increased peak hour NEC and Empire service frequency. | R63: 4 Additional ridership generated by increased peak hour NEC and Empire service frequency. | Z63: 4 Additional ridership generated by increased peak hour NEC and Empire service frequency.
A64: 5 No as-of-right development planned at remaining GPP sites between 2032 and 2042. | I64: 5 No as-of-right development planned at remaining GPP sites between 2032 and 2042. | R64: 5 No as-of-right development planned at remaining GPP sites between 2032 and 2042. | Z64: 5 No as-of-right development planned at remaining GPP sites between 2032 and 2042.
A65: 9 Background growth between 2032 and 2042: 1/4%/yr for LIRR, MNR; 1/8%/yr for NJT (capacity-constrained) | I65: 10 Background growth between 2032 and 2042: 1%/yr for reverse-commute | R65: 10 Background growth between 2032 and 2042: 1%/yr for reverse-commute | Z65: 9 Background growth between 2032 and 2042: 1/4%/yr for LIRR, MNR; 1/8%/yr for NJT (capacity-constrained)
A67: 2042 Proposed Action | I67: 2042 Proposed Action | R67: 2042 Proposed Action | Z67: 2042 Proposed Action
A68: AM Peak Hour -- Alighting Direction | I68: AM Peak Hour -- Boarding Direction | R68: PM Peak Hour -- Alighting Direction | Z68: PM Peak Hour -- Boarding Direction
A69: Ridership Generated by Rail Service Improvements and GPP Redevelopment | I69: Ridership Generated by Rail Service Improvements and GPP Redevelopment | R69: Ridership Generated by Rail Service Improvements and GPP Redevelopment | Z69: Ridership Generated by Rail Service Improvements and GPP Redevelopment
C70: Rail Service | E70: Proposed | F70: Assumed | K70: Rail Service | M70: Proposed | N70: Assumed | T70: Rail Service | V70: Proposed | W70: Assumed | AB70: Rail Service | AD70: Proposed | AE70: Assumed
B71: Baseline | C71: Improvement | D71: Development | E71: Action | F71: Devel. | J71: Baseline | K71: Improvement | L71: Development | M71: Action | N71: Devel. | S71: Baseline | T71: Improvement | U71: Development | V71: Action | W71: Devel. | AA71: Baseline | AB71: Improvement | AC71: Development | AD71: Action | AE71: Devel.
B72: 2042 | C72: Increment6 | D72: Increment7 | E72: 2042 | F72: Split | J72: 2042 | K72: Increment6 | L72: Increment7 | M72: 2042 | N72: Split | S72: 2042 | T72: Increment6 | U72: Increment7 | V72: 2042 | W72: Split | AA72: 2042 | AB72: Increment6 | AC72: Increment7 | AD72: 2042 | AE72: Split
A73: Amtrak | B73: =F56 -> 4500 | C73: 0 | D73: 0 | E73: =SUM(B73:D73) -> 4500 | I73: Amtrak | J73: =N56 -> 4000 | K73: 0 | L73: 0 | M73: =SUM(J73:L73) -> 4000 | R73: Amtrak | S73: =W56 -> 4800 | T73: 0 | U73: 0 | V73: =SUM(S73:U73) -> 4800 | Z73: Amtrak | AA73: =AE56 -> 4000 | AB73: 0 | AC73: 0 | AD73: =SUM(AA73:AC73) -> 4000
A74: LIRR | B74: =F57 -> 37500 | C74: 0 | D74: =ROUND(4600*F74,-2) -> 2100 | E74: =SUM(B74:D74) -> 39600 | F74: 0.45 | I74: LIRR | J74: =N57 -> 4000 | K74: 0 | L74: =ROUND(200*N74,-1) -> 90 | M74: =SUM(J74:L74) -> 4090 | N74: 0.442 | R74: LIRR | S74: =W57 -> 6000 | T74: 0 | U74: =ROUND(200*W74,-1) -> 90 | V74: =SUM(S74:U74) -> 6090 | W74: 0.443 | Z74: LIRR | AA74: =AE57 -> 32100 | AB74: 0 | AC74: =ROUND(4200*AE74,-2) -> 1900 | AD74: =SUM(AA74:AC74) -> 34000 | AE74: 0.451
A75: NJ TRANSIT | B75: =F58 -> 30100 | C75: 22900 | D75: =ROUND(4600*F75,-2) -> 2300 | E75: =SUM(B75:D75) -> 55300 | F75: 0.5 | I75: NJ TRANSIT | J75: =N58 -> 4500 | K75: =ROUND(J75*C75/B75,-2) -> 3400 | L75: =ROUND(200*N75,-1) -> 100 | M75: =SUM(J75:L75) -> 8000 | N75: 0.495 | R75: NJ TRANSIT | S75: =W58 -> 6800 | T75: =ROUND(S75*AB75/AA75,-2) -> 5300 | U75: =ROUND(200*W75,-1) -> 100 | V75: =SUM(S75:U75) -> 12200 | W75: 0.495 | Z75: NJ TRANSIT | AA75: =AE58 -> 26300 | AB75: =ROUND(C75*0.9,-2) -> 20600 | AC75: =ROUND(4200*AE75,-2) -> 2100 | AD75: =SUM(AA75:AC75) -> 49000 | AE75: 0.5
A76: MNR-New Haven | B76: =F59 -> 4800 | C76: 0 | D76: =ROUND(4600*F76,-2) -> 200 | E76: =SUM(B76:D76) -> 5000 | F76: =SUM(B76:C76)/(SUM(B$79:C$79)-$B$73) -> 0.050367261 | I76: MNR-New Haven | J76: =N59 -> 800 | K76: 0 | L76: =ROUND(200*N76,-1) -> 10 | M76: =SUM(J76:L76) -> 810 | N76: =SUM(J76:K76)/(SUM(J$79:K$79)-$J$73) -> 0.062992126 | R76: MNR-New Haven | S76: =W59 -> 1200 | T76: 0 | U76: =ROUND(200*W76,-1) -> 10 | V76: =SUM(S76:U76) -> 1210 | W76: =SUM(S76:T76)/(SUM(S$79:T$79)-$S$73) -> 0.062176166 | Z76: MNR-New Haven | AA76: =AE59 -> 4100 | AB76: 0 | AC76: =ROUND(4200*AE76,-2) -> 200 | AD76: =SUM(AA76:AC76) -> 4300 | AE76: =SUM(AA76:AB76)/(SUM(AA$79:AB$79)-$AA$73) -> 0.049338147
A77: MNR-Hudson | B77: =F60 -> 0 | C77: 0 | D77: 0 | E77: =SUM(B77:D77) -> 0 | I77: MNR-Hudson | J77: =N60 -> 0 | K77: 0 | L77: 0 | M77: =SUM(J77:L77) -> 0 | R77: MNR-Hudson | S77: =W60 -> 0 | T77: 0 | U77: 0 | V77: =SUM(S77:U77) -> 0 | Z77: MNR-Hudson | AA77: =AE60 -> 0 | AB77: 0 | AC77: =ROUND(D77*0.92,-2) -> 0 | AD77: =SUM(AA77:AC77) -> 0
A79: TOTAL | B79: =SUM(B73:B78) -> 76900 | C79: =SUM(C73:C78) -> 22900 | D79: =SUM(D73:D78) -> 4600 | E79: =SUM(E73:E78) -> 104400 | F79: =SUM(F74:F76) -> 1.0003673 | I79: TOTAL | J79: =SUM(J73:J78) -> 13300 | K79: =SUM(K73:K78) -> 3400 | L79: =SUM(L73:L78) -> 200 | M79: =SUM(M73:M78) -> 16900 | N79: =SUM(N74:N76) -> 0.99999213 | R79: TOTAL | S79: =SUM(S73:S78) -> 18800 | T79: =SUM(T73:T78) -> 5300 | U79: =SUM(U73:U78) -> 200 | V79: =SUM(V73:V78) -> 24300 | W79: =SUM(W74:W76) -> 1.0001762 | Z79: TOTAL | AA79: =SUM(AA73:AA78) -> 66500 | AB79: =SUM(AB73:AB78) -> 20600 | AC79: =SUM(AC73:AC78) -> 4200 | AD79: =SUM(AD73:AD78) -> 91300 | AE79: =SUM(AE74:AE76) -> 1.0003381
A80: 6 Full utilization of new Hudson Tunnel and Penn South (55,000 total peak hour trips, per NJ TRANSIT) | Z80: 6 Full utilization of new Hudson Tunnel and Penn South (55,000 total peak hour trips, per NJ TRANSIT)
A81: 7 Includes net new trips generated by proposed redevelopment within GPP Zone by 2042 | Z81: 7 Includes net new trips generated by proposed redevelopment within GPP Zone by 2042
A82: (total trips minus as-of-right trips at redeveloped sites) -- Subject to refinement by EIS team | Z82: (total trips minus as-of-right trips at redeveloped sites) -- Subject to refinement by EIS team

Sheet Graphs
A2: NY Penn Station | I2: NY Penn Station
A3: AM Peak Hour Passengers | I3: PM Peak Hour Passengers
A4: Alighting Direction | I4: Boarding Direction
B6: 2019 | C6: Baseline 2032 | D6: Proposed Action 2032 | E6: Baseline 2042 | F6: Proposed Action 2042 | G6: Full Build | J6: 2019 | K6: Baseline 2032 | L6: Proposed Action 2032 | M6: Baseline 2042 | N6: Proposed Action 2042 | O6: Full Build
A7: Amtrak | B7: =Demand!B7 -> 1143 | C7: =Demand!C7 -> 3600 | D7: =Demand!D7 -> 3600 | E7: =Demand!E7 -> 4500 | F7: =Demand!F7 -> 4500 | G7: =Demand!G7 -> 5000 | I7: Amtrak | J7: =Demand!AA7 -> 915 | K7: =Demand!AB7 -> 3300 | L7: =Demand!AC7 -> 3300 | M7: =Demand!AD7 -> 4000 | N7: =Demand!AE7 -> 4000 | O7: =Demand!AF7 -> 5000
A8: LIRR | B8: =Demand!B8 -> 33750 | C8: =Demand!C8 -> 36600 | D8: =Demand!D8 -> 37100 | E8: =Demand!E8 -> 37500 | F8: =Demand!F8 -> 39600 | G8: =Demand!G8-18000 -> 36000 | I8: LIRR | J8: =Demand!AA8 -> 27630 | K8: =Demand!AB8 -> 31300 | L8: =Demand!AC8 -> 31700 | M8: =Demand!AD8 -> 32100 | N8: =Demand!AE8 -> 34000 | O8: =Demand!AF8-18000 -> 30600
A9: MNR-New Haven | B9: =Demand!B10 -> 0 | C9: =Demand!C10 -> 4700 | D9: =Demand!D10 -> 4800 | E9: =Demand!E10 -> 4800 | F9: =Demand!F10 -> 5000 | G9: =Demand!G10-7000 -> 3000 | I9: MNR-New Haven | J9: =Demand!AA10 -> 0 | K9: =Demand!AB10 -> 4000 | L9: =Demand!AC10 -> 4100 | M9: =Demand!AD10 -> 4100 | N9: =Demand!AE10 -> 4300 | O9: =Demand!AF10-5000 -> 4000
A10: MNR-Hudson | B10: =Demand!B11 -> 0 | C10: =Demand!C11 -> 0 | D10: =Demand!D11 -> 0 | E10: =Demand!E11 -> 0 | F10: =Demand!F11 -> 0 | G10: =Demand!G11 -> 2500 | I10: MNR-Hudson | J10: =Demand!AA11 -> 0 | K10: =Demand!AB11 -> 0 | L10: =Demand!AC11 -> 0 | M10: =Demand!AD11 -> 0 | N10: =Demand!AE11 -> 0 | O10: =Demand!AF11 -> 2300
A11: 30th St Tunnel Thru-Running | B11: 0 | F11: 0 | G11: 25000 | I11: 30th St Tunnel Thru-Running | J11: 0 | N11: 0 | O11: 23000
A12: NJ TRANSIT | B12: =Demand!B9 -> 25927 | C12: =Demand!C9 -> 29700 | D12: =Demand!D9 -> 30100 | E12: =Demand!E9 -> 30100 | F12: =Demand!F9 -> 55300 | G12: =Demand!G9 -> 58000 | I12: NJ TRANSIT | J12: =Demand!AA9 -> 23179 | K12: =Demand!AB9 -> 26000 | L12: =Demand!AC9 -> 26300 | M12: =Demand!AD9 -> 26300 | N12: =Demand!AE9 -> 49000 | O12: =Demand!AF9 -> 52200
A14: TOTAL | B14: =SUM(B7:B13) -> 60820 | C14: =SUM(C7:C13) -> 74600 | D14: =SUM(D7:D13) -> 75600 | E14: =SUM(E7:E13) -> 76900 | F14: =SUM(F7:F13) -> 104400 | G14: =SUM(G7:G13) -> 129500 | I14: TOTAL | J14: =SUM(J7:J13) -> 51724 | K14: =SUM(K7:K13) -> 64600 | L14: =SUM(L7:L13) -> 65400 | M14: =SUM(M7:M13) -> 66500 | N14: =SUM(N7:N13) -> 91300 | O14: =SUM(O7:O13) -> 117100
